BEGIN:VCALENDAR
VERSION:2.0
PRODID:-//Library Market//iCal Export//EN
BEGIN:VEVENT
SUMMARY:Drop in Craft
UID:8877
DTSTAMP:20260424T025300Z
DTSTART:20260702T040000Z
DTEND:20260702T040000Z
LOCATION:108 E Wapakoneta St, Waynesfield, OH 45896, United States
ROOM: Library
DESCRIPTION:
URL:https://auglaize.librarycalendar.com/event/drop-craft-8877
END:VEVENT
END:VCALENDAR
